BEGIN:VCALENDAR
VERSION:2.0
PRODID:Oceanside, CA Calendar Creator
METHOD:PUBLISH
BEGIN:VEVENT
DTSTAMP:20240717T111251
DTSTART:20240817T170000
DTEND:20240817T200000
SUMMARY:Concert in the Park - Martin Luther King Park
DESCRIPTION:<p>Join us for a FREE Concert in the Park featuring IT'S NEVER 2L8, a 4 piece rock, classic rock, pop and dance cover band!&nbsp;</p><p><div xat24cr="" x1mh8g0r="" x1vvkbs="" xtlvy1s"="">5:00pm – 6:00pm - Opener: Todd Wees&nbsp;<br>Enjoy a mellow acoustic set with local musician Todd Wees.</div><p xat24cr="" x1mh8g0r="" x1vvkbs=""><div xat24cr="" x1mh8g0r="" x1vvkbs="" xtlvy1s"=""></div></p><div xat24cr="" x1mh8g0r="" x1vvkbs="" xtlvy1s"="">6:00pm – 8:00pm - Headliner: IT'S NEVER 2L8&nbsp;<br>Get ready to move your feet with IT'S NEVER 2L8! Their setlist includes classic 80s rock to modern funk pop!</div></p><p>Remember to bring your beach chairs and blankets! Food trucks and family-friendly activities will be available at the event.</p><p>Please note: canopies and large umbrellas are not allowed.</p><p>Parking is limited! We encourage carpooling, biking, taking transit, or walking. Bikers, walkers, and transit takers can stop by our booth for a free gift.</p><div><span class="html-span xexx8yu x4uap5 x18d9i69 xkhd6sd x1hl2dhg x16tdsg8 x1vvkbs x3nfvp2 x1j61x8r x1fcty0u xdj266r xat24cr xgzva0m xhhsvwb xxymvpz xlup9mm x1kky2od" style="overflow-wrap: break-word; padding: 0px; margin: 0px 1px; height: 16px; display: inline-flex; vertical-align: middle; width: 16px; font-family: &quot;Segoe UI Historic&quot;, &quot;Segoe UI&quot;, Helvetica, Arial, sans-serif; color: rgb(5, 5, 5); font-size: 15px; background-color: rgb(255, 255, 255);"><br></span></div>
X-ALT-DESC;FMTTYPE=text/html:<p>Join us for a FREE Concert in the Park featuring IT'S NEVER 2L8, a 4 piece rock, classic rock, pop and dance cover band!&nbsp;</p><p><div xat24cr="" x1mh8g0r="" x1vvkbs="" xtlvy1s"="">5:00pm – 6:00pm - Opener: Todd Wees&nbsp;<br>Enjoy a mellow acoustic set with local musician Todd Wees.</div><p xat24cr="" x1mh8g0r="" x1vvkbs=""><div xat24cr="" x1mh8g0r="" x1vvkbs="" xtlvy1s"=""></div></p><div xat24cr="" x1mh8g0r="" x1vvkbs="" xtlvy1s"="">6:00pm – 8:00pm - Headliner: IT'S NEVER 2L8&nbsp;<br>Get ready to move your feet with IT'S NEVER 2L8! Their setlist includes classic 80s rock to modern funk pop!</div></p><p>Remember to bring your beach chairs and blankets! Food trucks and family-friendly activities will be available at the event.</p><p>Please note: canopies and large umbrellas are not allowed.</p><p>Parking is limited! We encourage carpooling, biking, taking transit, or walking. Bikers, walkers, and transit takers can stop by our booth for a free gift.</p><div><span class="html-span xexx8yu x4uap5 x18d9i69 xkhd6sd x1hl2dhg x16tdsg8 x1vvkbs x3nfvp2 x1j61x8r x1fcty0u xdj266r xat24cr xgzva0m xhhsvwb xxymvpz xlup9mm x1kky2od" style="overflow-wrap: break-word; padding: 0px; margin: 0px 1px; height: 16px; display: inline-flex; vertical-align: middle; width: 16px; font-family: &quot;Segoe UI Historic&quot;, &quot;Segoe UI&quot;, Helvetica, Arial, sans-serif; color: rgb(5, 5, 5); font-size: 15px; background-color: rgb(255, 255, 255);"><br></span></div>
LOCATION:Martin Luther King\, Jr. Park\, 4500 Mesa Drive Oceanside\, California 92056
CLASS:PUBLIC
END:VEVENT
END:VCALENDAR
