BEGIN:VCALENDAR
VERSION:2.0
PRODID:Oceanside, CA Calendar Creator
METHOD:PUBLISH
BEGIN:VEVENT
DTSTAMP:20240702T112103
DTSTART:20240725T180000
DTEND:20240725T190000
SUMMARY:Parks and Recreation Month - Free Step Dance
DESCRIPTION:<p>Get your groove on with our free step dance event at John Landes Community Center!</p><p>This event will be held on Thursday, July 25 from 6-7PM.</p>
X-ALT-DESC;FMTTYPE=text/html:<p>Get your groove on with our free step dance event at John Landes Community Center!</p><p>This event will be held on Thursday, July 25 from 6-7PM.</p>
LOCATION:John Landes Community Center\, 2855 Cedar Road Oceanside\, California 92056
CLASS:PUBLIC
END:VEVENT
END:VCALENDAR
